BEGIN:VCALENDAR
VERSION:2.0
PRODID:-//www.arcnbc.org//NONSGML kigkonsult.se iCalcreator 2.30.10//
CALSCALE:GREGORIAN
METHOD:PUBLISH
UID:82f042e0-c776-4b20-8e50-b3ffa3a12a63
X-WR-CALDESC:
X-WR-RELCALID:4f3ac228cb84bd0e3fec4ef6a81b6b7e
X-WR-TIMEZONE:America/New_York
BEGIN:VTIMEZONE
TZID:America/New_York
BEGIN:STANDARD
TZNAME:EST
DTSTART:20161106T020000
TZOFFSETFROM:-0400
TZOFFSETTO:-0500
RDATE:20171105T020000
RDATE:20181104T020000
END:STANDARD
BEGIN:DAYLIGHT
TZNAME:EDT
DTSTART:20170312T020000
TZOFFSETFROM:-0500
TZOFFSETTO:-0400
RDATE:20180311T020000
END:DAYLIGHT
END:VTIMEZONE
BEGIN:VEVENT
UID:2dfaee0c-be5c-4d2a-8d3c-2eb700a86f76
DTSTAMP:20260423T165455Z
DESCRIPTION:
DTSTART;TZID=America/New_York:20170821T153000
DTEND;TZID=America/New_York:20170821T193000
LOCATION:Arc Attleboro
SUMMARY:Horse Therapy
END:VEVENT
END:VCALENDAR
