BEGIN:VCALENDAR
VERSION:2.0
PRODID:-//www.arcnbc.org//NONSGML kigkonsult.se iCalcreator 2.30.10//
CALSCALE:GREGORIAN
METHOD:PUBLISH
UID:47b4f8e4-db9a-470a-aef6-e011f2194219
X-WR-CALDESC:
X-WR-RELCALID:e5177de46e92f7a1d7a09c7cf5b90ba5
X-WR-TIMEZONE:America/New_York
BEGIN:VTIMEZONE
TZID:America/New_York
BEGIN:STANDARD
TZNAME:EST
DTSTART:20161106T020000
TZOFFSETFROM:-0400
TZOFFSETTO:-0500
RDATE:20171105T020000
RDATE:20181104T020000
END:STANDARD
BEGIN:DAYLIGHT
TZNAME:EDT
DTSTART:20170312T020000
TZOFFSETFROM:-0500
TZOFFSETTO:-0400
RDATE:20180311T020000
END:DAYLIGHT
END:VTIMEZONE
BEGIN:VEVENT
UID:00c72299-7033-4efa-b07c-2d8643026046
DTSTAMP:20260423T165745Z
DESCRIPTION:
DTSTART;TZID=America/New_York:20170822T180000
DTEND;TZID=America/New_York:20170822T200000
LOCATION:Finberg Field- Attleboro
SUMMARY:Arc Softball
END:VEVENT
END:VCALENDAR
