BEGIN:VCALENDAR
VERSION:2.0
PRODID:-//www.arcnbc.org//NONSGML kigkonsult.se iCalcreator 2.30.10//
CALSCALE:GREGORIAN
METHOD:PUBLISH
UID:095dabe2-0345-4da6-9817-d2014da11a33
X-WR-CALDESC:
X-WR-RELCALID:e96710cfd672b83f9b84882ed028b00c
X-WR-TIMEZONE:America/New_York
BEGIN:VTIMEZONE
TZID:America/New_York
BEGIN:STANDARD
TZNAME:EST
DTSTART:20161106T020000
TZOFFSETFROM:-0400
TZOFFSETTO:-0500
RDATE:20171105T020000
RDATE:20181104T020000
END:STANDARD
BEGIN:DAYLIGHT
TZNAME:EDT
DTSTART:20170312T020000
TZOFFSETFROM:-0500
TZOFFSETTO:-0400
RDATE:20180311T020000
END:DAYLIGHT
END:VTIMEZONE
BEGIN:VEVENT
UID:0c2b9b12-0f22-43ea-a445-b4f81028e3fc
DTSTAMP:20260423T165922Z
DESCRIPTION:
DTSTART;TZID=America/New_York:20170823T150000
DTEND;TZID=America/New_York:20170823T170000
LOCATION:TARC
SUMMARY:Arts & Crafts
END:VEVENT
END:VCALENDAR
