BEGIN:VCALENDAR
VERSION:2.0
PRODID:-//www.arcnbc.org//NONSGML kigkonsult.se iCalcreator 2.30.10//
CALSCALE:GREGORIAN
METHOD:PUBLISH
UID:99898ca4-8b74-455a-8588-9b8fad7a7caa
X-WR-CALDESC:
X-WR-RELCALID:ea4b60ac3f8fbca5c30071cbd6b478e1
X-WR-TIMEZONE:America/New_York
BEGIN:VTIMEZONE
TZID:America/New_York
BEGIN:STANDARD
TZNAME:EST
DTSTART:20161106T020000
TZOFFSETFROM:-0400
TZOFFSETTO:-0500
RDATE:20171105T020000
RDATE:20181104T020000
END:STANDARD
BEGIN:DAYLIGHT
TZNAME:EDT
DTSTART:20170312T020000
TZOFFSETFROM:-0500
TZOFFSETTO:-0400
RDATE:20180311T020000
END:DAYLIGHT
END:VTIMEZONE
BEGIN:VEVENT
UID:e5db31ef-b501-45b0-86cc-29d087f62cf2
DTSTAMP:20260423T165748Z
DESCRIPTION:
DTSTART;TZID=America/New_York:20170823T160000
DTEND;TZID=America/New_York:20170823T190000
LOCATION:Arc Attleboro/ East Taunton Kenpo Karate
SUMMARY:Karate Class
END:VEVENT
END:VCALENDAR
