BEGIN:VCALENDAR
VERSION:2.0
PRODID:-//www.arcnbc.org//NONSGML kigkonsult.se iCalcreator 2.30.10//
CALSCALE:GREGORIAN
METHOD:PUBLISH
UID:b7367c6a-3f83-41e8-975d-b62d39d7aeb3
X-WR-CALDESC:
X-WR-RELCALID:85811aa3f1badc66c92ebed65d63e3d9
X-WR-TIMEZONE:America/New_York
BEGIN:VTIMEZONE
TZID:America/New_York
BEGIN:STANDARD
TZNAME:EST
DTSTART:20161106T020000
TZOFFSETFROM:-0400
TZOFFSETTO:-0500
RDATE:20171105T020000
RDATE:20181104T020000
END:STANDARD
BEGIN:DAYLIGHT
TZNAME:EDT
DTSTART:20170312T020000
TZOFFSETFROM:-0500
TZOFFSETTO:-0400
RDATE:20180311T020000
END:DAYLIGHT
END:VTIMEZONE
BEGIN:VEVENT
UID:ac713c77-f732-4968-a823-d6667517ac6a
DTSTAMP:20260423T165645Z
DESCRIPTION:
DTSTART;TZID=America/New_York:20170824T090000
DTEND;TZID=America/New_York:20170824T190000
LOCATION:Arc Attleboro
SUMMARY:York Wild Kingdom
END:VEVENT
END:VCALENDAR
