BEGIN:VCALENDAR
VERSION:2.0
PRODID:-//www.arcnbc.org//NONSGML kigkonsult.se iCalcreator 2.30.10//
CALSCALE:GREGORIAN
METHOD:PUBLISH
UID:fc2907e9-a97a-4230-ad51-e2777c7375b7
X-WR-CALDESC:
X-WR-RELCALID:f271d34db205aacabb579d4092315f48
X-WR-TIMEZONE:America/New_York
BEGIN:VTIMEZONE
TZID:America/New_York
BEGIN:STANDARD
TZNAME:EST
DTSTART:20161106T020000
TZOFFSETFROM:-0400
TZOFFSETTO:-0500
RDATE:20171105T020000
RDATE:20181104T020000
END:STANDARD
BEGIN:DAYLIGHT
TZNAME:EDT
DTSTART:20170312T020000
TZOFFSETFROM:-0500
TZOFFSETTO:-0400
RDATE:20180311T020000
END:DAYLIGHT
END:VTIMEZONE
BEGIN:VEVENT
UID:c6ba1b5e-602a-4e98-acf2-3e0925b5a62f
DTSTAMP:20260423T165404Z
DESCRIPTION:
DTSTART;TZID=America/New_York:20170825T090000
DTEND;TZID=America/New_York:20170825T150000
LOCATION:New Bedford Office
SUMMARY:First Aid/CPR
END:VEVENT
END:VCALENDAR
