BEGIN:VCALENDAR
VERSION:2.0
PRODID:-//www.arcnbc.org//NONSGML kigkonsult.se iCalcreator 2.30.10//
CALSCALE:GREGORIAN
METHOD:PUBLISH
UID:1cdcae19-9a5e-4c12-873a-fd677df8d602
X-WR-CALDESC:
X-WR-RELCALID:1964452639f0ac44f79815d2839500bb
X-WR-TIMEZONE:America/New_York
BEGIN:VTIMEZONE
TZID:America/New_York
BEGIN:STANDARD
TZNAME:EST
DTSTART:20161106T020000
TZOFFSETFROM:-0400
TZOFFSETTO:-0500
RDATE:20171105T020000
RDATE:20181104T020000
END:STANDARD
BEGIN:DAYLIGHT
TZNAME:EDT
DTSTART:20170312T020000
TZOFFSETFROM:-0500
TZOFFSETTO:-0400
RDATE:20180311T020000
END:DAYLIGHT
END:VTIMEZONE
BEGIN:VEVENT
UID:513ba59e-faa3-4c80-a8bb-24150cb122c1
DTSTAMP:20260423T165454Z
DESCRIPTION:
DTSTART;TZID=America/New_York:20170826T093000
DTEND;TZID=America/New_York:20170826T180000
LOCATION:Arc Attleboro
SUMMARY:Marshfield Fair
END:VEVENT
END:VCALENDAR
