BEGIN:VCALENDAR
VERSION:2.0
PRODID:-//www.arcnbc.org//NONSGML kigkonsult.se iCalcreator 2.30.10//
CALSCALE:GREGORIAN
METHOD:PUBLISH
UID:65e380e4-f275-4424-97bd-5eb6bee051e7
X-WR-CALDESC:
X-WR-RELCALID:7c8dfdabdf8bea8277412c5df7305830
X-WR-TIMEZONE:America/New_York
BEGIN:VTIMEZONE
TZID:America/New_York
BEGIN:STANDARD
TZNAME:EST
DTSTART:20161106T020000
TZOFFSETFROM:-0400
TZOFFSETTO:-0500
RDATE:20171105T020000
RDATE:20181104T020000
END:STANDARD
BEGIN:DAYLIGHT
TZNAME:EDT
DTSTART:20170312T020000
TZOFFSETFROM:-0500
TZOFFSETTO:-0400
RDATE:20180311T020000
END:DAYLIGHT
END:VTIMEZONE
BEGIN:VEVENT
UID:f0c59ac1-ae0f-44b3-99b6-557bf2f324cb
DTSTAMP:20260423T165455Z
DESCRIPTION:
DTSTART;TZID=America/New_York:20170828T180000
DTEND;TZID=America/New_York:20170828T230000
LOCATION:Arc Attleboro
SUMMARY:Drive-In
END:VEVENT
END:VCALENDAR
