BEGIN:VCALENDAR
VERSION:2.0
PRODID:-//www.arcnbc.org//NONSGML kigkonsult.se iCalcreator 2.30.10//
CALSCALE:GREGORIAN
METHOD:PUBLISH
UID:168fdb6a-a26b-4c22-b25c-2a07458d6b7c
X-WR-CALDESC:
X-WR-RELCALID:73e52011a5f2a787ac95913bbf312f7b
X-WR-TIMEZONE:America/New_York
BEGIN:VTIMEZONE
TZID:America/New_York
BEGIN:STANDARD
TZNAME:EST
DTSTART:20161106T020000
TZOFFSETFROM:-0400
TZOFFSETTO:-0500
RDATE:20171105T020000
RDATE:20181104T020000
END:STANDARD
BEGIN:DAYLIGHT
TZNAME:EDT
DTSTART:20170312T020000
TZOFFSETFROM:-0500
TZOFFSETTO:-0400
RDATE:20180311T020000
END:DAYLIGHT
END:VTIMEZONE
BEGIN:VEVENT
UID:bed9081b-c816-4a35-ac28-9fafeb501fb5
DTSTAMP:20260423T165807Z
DESCRIPTION:
DTSTART;TZID=America/New_York:20170829T180000
DTEND;TZID=America/New_York:20170829T200000
LOCATION:Finberg Field- Attleboro
SUMMARY:Arc Softball
END:VEVENT
END:VCALENDAR
