BEGIN:VCALENDAR
VERSION:2.0
PRODID:-//www.arcnbc.org//NONSGML kigkonsult.se iCalcreator 2.30.10//
CALSCALE:GREGORIAN
METHOD:PUBLISH
UID:f911d926-82b8-41b7-ab04-eea6a286432b
X-WR-CALDESC:
X-WR-RELCALID:0dabf52955de1f34ac70831a20503b8d
X-WR-TIMEZONE:America/New_York
BEGIN:VTIMEZONE
TZID:America/New_York
BEGIN:STANDARD
TZNAME:EST
DTSTART:20161106T020000
TZOFFSETFROM:-0400
TZOFFSETTO:-0500
RDATE:20171105T020000
RDATE:20181104T020000
END:STANDARD
BEGIN:DAYLIGHT
TZNAME:EDT
DTSTART:20170312T020000
TZOFFSETFROM:-0500
TZOFFSETTO:-0400
RDATE:20180311T020000
END:DAYLIGHT
END:VTIMEZONE
BEGIN:VEVENT
UID:46461e87-b173-4917-8eee-6fc45377793e
DTSTAMP:20260423T165647Z
DESCRIPTION:
DTSTART;TZID=America/New_York:20170830T160000
DTEND;TZID=America/New_York:20170830T190000
LOCATION:Arc Attleboro/ East Taunton Kenpo Karate
SUMMARY:Karate Class
END:VEVENT
END:VCALENDAR
