BEGIN:VCALENDAR
VERSION:2.0
PRODID:-//www.arcnbc.org//NONSGML kigkonsult.se iCalcreator 2.30.10//
CALSCALE:GREGORIAN
METHOD:PUBLISH
UID:f4983da1-1a74-452e-9795-e14b006a2059
X-WR-CALDESC:
X-WR-RELCALID:2283426b13002fba94ac7d495c343edf
X-WR-TIMEZONE:America/New_York
BEGIN:VTIMEZONE
TZID:America/New_York
BEGIN:STANDARD
TZNAME:EST
DTSTART:20161106T020000
TZOFFSETFROM:-0400
TZOFFSETTO:-0500
RDATE:20171105T020000
RDATE:20181104T020000
END:STANDARD
BEGIN:DAYLIGHT
TZNAME:EDT
DTSTART:20170312T020000
TZOFFSETFROM:-0500
TZOFFSETTO:-0400
RDATE:20180311T020000
END:DAYLIGHT
END:VTIMEZONE
BEGIN:VEVENT
UID:4538e416-ba07-4c06-91cf-32a073d989a2
DTSTAMP:20260423T165247Z
DESCRIPTION:
DTSTART;TZID=America/New_York:20170830T090000
DTEND;TZID=America/New_York:20170830T153000
LOCATION:proAbility office
SUMMARY:NCI
END:VEVENT
END:VCALENDAR
