BEGIN:VCALENDAR
VERSION:2.0
PRODID:-//www.arcnbc.org//NONSGML kigkonsult.se iCalcreator 2.30.10//
CALSCALE:GREGORIAN
METHOD:PUBLISH
UID:c502ca18-c87a-4d61-816e-5dc130e5aaac
X-WR-CALDESC:
X-WR-RELCALID:8c52791e5cce3ce6f2afe0f6542685bd
X-WR-TIMEZONE:America/New_York
BEGIN:VTIMEZONE
TZID:America/New_York
BEGIN:STANDARD
TZNAME:EST
DTSTART:20161106T020000
TZOFFSETFROM:-0400
TZOFFSETTO:-0500
RDATE:20171105T020000
RDATE:20181104T020000
END:STANDARD
BEGIN:DAYLIGHT
TZNAME:EDT
DTSTART:20170312T020000
TZOFFSETFROM:-0500
TZOFFSETTO:-0400
RDATE:20180311T020000
END:DAYLIGHT
END:VTIMEZONE
BEGIN:VEVENT
UID:5ffbeb8b-568c-4275-9b29-ec7b1a2ba415
DTSTAMP:20260423T170052Z
DESCRIPTION:
DTSTART;TZID=America/New_York:20170905T150000
DTEND;TZID=America/New_York:20170905T170000
LOCATION:TARC
SUMMARY:Life Enrichment
END:VEVENT
END:VCALENDAR
