BEGIN:VCALENDAR
VERSION:2.0
PRODID:-//www.arcnbc.org//NONSGML kigkonsult.se iCalcreator 2.30.10//
CALSCALE:GREGORIAN
METHOD:PUBLISH
UID:0843ed63-adcd-450d-b401-191f7beb8b88
X-WR-CALDESC:
X-WR-RELCALID:470d768eb9f95a5647e77de1d8340193
X-WR-TIMEZONE:America/New_York
BEGIN:VTIMEZONE
TZID:America/New_York
BEGIN:STANDARD
TZNAME:EST
DTSTART:20161106T020000
TZOFFSETFROM:-0400
TZOFFSETTO:-0500
RDATE:20171105T020000
RDATE:20181104T020000
END:STANDARD
BEGIN:DAYLIGHT
TZNAME:EDT
DTSTART:20170312T020000
TZOFFSETFROM:-0500
TZOFFSETTO:-0400
RDATE:20180311T020000
RDATE:20190310T020000
END:DAYLIGHT
END:VTIMEZONE
BEGIN:VEVENT
UID:49502ac2-dcda-42ed-81e1-3ace3701d471
DTSTAMP:20260423T165816Z
DESCRIPTION:
DTSTART;TZID=America/New_York:20170912T173000
DTEND;TZID=America/New_York:20170912T183000
LOCATION:TARC
SUMMARY:Zumba
END:VEVENT
END:VCALENDAR
