BEGIN:VCALENDAR
VERSION:2.0
PRODID:-//www.arcnbc.org//NONSGML kigkonsult.se iCalcreator 2.30.10//
CALSCALE:GREGORIAN
METHOD:PUBLISH
UID:e4f047f7-6fe0-4b58-81ab-833a6cab7cf4
X-WR-CALDESC:Non- Violent Crisis Intervention (NCI)
X-WR-RELCALID:455a9deb6bd11ecdb141a3031e4e5a5c
X-WR-TIMEZONE:America/New_York
BEGIN:VTIMEZONE
TZID:America/New_York
BEGIN:STANDARD
TZNAME:EST
DTSTART:20161106T020000
TZOFFSETFROM:-0400
TZOFFSETTO:-0500
RDATE:20171105T020000
RDATE:20181104T020000
END:STANDARD
BEGIN:DAYLIGHT
TZNAME:EDT
DTSTART:20170312T020000
TZOFFSETFROM:-0500
TZOFFSETTO:-0400
RDATE:20180311T020000
RDATE:20190310T020000
END:DAYLIGHT
END:VTIMEZONE
BEGIN:VEVENT
UID:0933f48a-cfc4-4430-8b81-5094b1207ab1
DTSTAMP:20260423T165348Z
DESCRIPTION:Non- Violent Crisis Intervention (NCI)
DTSTART;TZID=America/New_York:20170912T090000
DTEND;TZID=America/New_York:20170912T160000
LOCATION:141 Park Street
SUMMARY:NCI
END:VEVENT
END:VCALENDAR
