BEGIN:VCALENDAR
VERSION:2.0
PRODID:-//www.arcnbc.org//NONSGML kigkonsult.se iCalcreator 2.30.10//
CALSCALE:GREGORIAN
METHOD:PUBLISH
UID:2d2f4f2d-2bf5-4776-8e82-f650f73594e6
X-WR-CALDESC:
X-WR-RELCALID:4f0f4c756d403f6e16e1b2bc8a3fbaa8
X-WR-TIMEZONE:America/New_York
BEGIN:VTIMEZONE
TZID:America/New_York
BEGIN:STANDARD
TZNAME:EST
DTSTART:20161106T020000
TZOFFSETFROM:-0400
TZOFFSETTO:-0500
RDATE:20171105T020000
RDATE:20181104T020000
END:STANDARD
BEGIN:DAYLIGHT
TZNAME:EDT
DTSTART:20170312T020000
TZOFFSETFROM:-0500
TZOFFSETTO:-0400
RDATE:20180311T020000
RDATE:20190310T020000
END:DAYLIGHT
END:VTIMEZONE
BEGIN:VEVENT
UID:dd95f5ee-1ce8-4ffe-bcb8-a71742acb44c
DTSTAMP:20260423T165745Z
DESCRIPTION:
DTSTART;TZID=America/New_York:20170913T143000
DTEND;TZID=America/New_York:20170913T153000
LOCATION:TARC
SUMMARY:Bingo
END:VEVENT
END:VCALENDAR
