BEGIN:VCALENDAR
VERSION:2.0
PRODID:-//www.arcnbc.org//NONSGML kigkonsult.se iCalcreator 2.30.10//
CALSCALE:GREGORIAN
METHOD:PUBLISH
UID:8183fce9-641d-4266-bed0-38e6e82b8ee0
X-WR-CALDESC:
X-WR-RELCALID:a33abbbea794c61e3da1b9304460d3ca
X-WR-TIMEZONE:America/New_York
BEGIN:VTIMEZONE
TZID:America/New_York
BEGIN:STANDARD
TZNAME:EST
DTSTART:20161106T020000
TZOFFSETFROM:-0400
TZOFFSETTO:-0500
RDATE:20171105T020000
RDATE:20181104T020000
END:STANDARD
BEGIN:DAYLIGHT
TZNAME:EDT
DTSTART:20170312T020000
TZOFFSETFROM:-0500
TZOFFSETTO:-0400
RDATE:20180311T020000
RDATE:20190310T020000
END:DAYLIGHT
END:VTIMEZONE
BEGIN:VEVENT
UID:28562855-ba02-47bd-807b-e65ad81f28dc
DTSTAMP:20260423T165403Z
DESCRIPTION:
DTSTART;TZID=America/New_York:20170913T090000
DTEND;TZID=America/New_York:20170913T150000
LOCATION:141 Park Street
SUMMARY:First Aid/CPR
END:VEVENT
END:VCALENDAR
