BEGIN:VCALENDAR
VERSION:2.0
PRODID:-//www.arcnbc.org//NONSGML kigkonsult.se iCalcreator 2.30.10//
CALSCALE:GREGORIAN
METHOD:PUBLISH
UID:acb7c8d8-c6e5-4318-9fd8-9df8fbb0d517
X-WR-CALDESC:
X-WR-RELCALID:8fd0d7e211115deda1eb73d004eef726
X-WR-TIMEZONE:America/New_York
BEGIN:VTIMEZONE
TZID:America/New_York
BEGIN:STANDARD
TZNAME:EST
DTSTART:20161106T020000
TZOFFSETFROM:-0400
TZOFFSETTO:-0500
RDATE:20171105T020000
RDATE:20181104T020000
END:STANDARD
BEGIN:DAYLIGHT
TZNAME:EDT
DTSTART:20170312T020000
TZOFFSETFROM:-0500
TZOFFSETTO:-0400
RDATE:20180311T020000
RDATE:20190310T020000
END:DAYLIGHT
END:VTIMEZONE
BEGIN:VEVENT
UID:b7edaf2a-3f3d-4a74-82d5-1ce002d92578
DTSTAMP:20260423T165645Z
DESCRIPTION:
DTSTART;TZID=America/New_York:20170914T170000
DTEND;TZID=America/New_York:20170914T190000
LOCATION:proAbility office\, 25 Thurber Blvd. Smithfield\, RI
SUMMARY:proAbility staff First Aid/CPR Refresher
END:VEVENT
END:VCALENDAR
