BEGIN:VCALENDAR
VERSION:2.0
PRODID:-//www.arcnbc.org//NONSGML kigkonsult.se iCalcreator 2.30.10//
CALSCALE:GREGORIAN
METHOD:PUBLISH
UID:0443ce42-72c8-4d7b-9bcd-5e8c3d89ec90
X-WR-CALDESC:
X-WR-RELCALID:98203bcc958ec03ecd4d97e360cb70e7
X-WR-TIMEZONE:America/New_York
BEGIN:VTIMEZONE
TZID:America/New_York
BEGIN:STANDARD
TZNAME:EST
DTSTART:20161106T020000
TZOFFSETFROM:-0400
TZOFFSETTO:-0500
RDATE:20171105T020000
RDATE:20181104T020000
END:STANDARD
BEGIN:DAYLIGHT
TZNAME:EDT
DTSTART:20170312T020000
TZOFFSETFROM:-0500
TZOFFSETTO:-0400
RDATE:20180311T020000
RDATE:20190310T020000
END:DAYLIGHT
END:VTIMEZONE
BEGIN:VEVENT
UID:1b90d0b8-462f-461e-8df0-32f258741664
DTSTAMP:20260423T165645Z
DESCRIPTION:
DTSTART;TZID=America/New_York:20170908T080000
DTEND;TZID=America/New_York:20170915T230000
LOCATION:Arc Attleboro
SUMMARY:Arc Vacation to Bermuda
END:VEVENT
END:VCALENDAR
