BEGIN:VCALENDAR
VERSION:2.0
PRODID:-//www.arcnbc.org//NONSGML kigkonsult.se iCalcreator 2.30.10//
CALSCALE:GREGORIAN
METHOD:PUBLISH
UID:35460d2d-f183-41b5-a6f8-6ca4b9ce7a87
X-WR-CALDESC:
X-WR-RELCALID:92760d3c37efc896c83c79d2a996bbb9
X-WR-TIMEZONE:America/New_York
BEGIN:VTIMEZONE
TZID:America/New_York
BEGIN:STANDARD
TZNAME:EST
DTSTART:20161106T020000
TZOFFSETFROM:-0400
TZOFFSETTO:-0500
RDATE:20171105T020000
RDATE:20181104T020000
END:STANDARD
BEGIN:DAYLIGHT
TZNAME:EDT
DTSTART:20170312T020000
TZOFFSETFROM:-0500
TZOFFSETTO:-0400
RDATE:20180311T020000
RDATE:20190310T020000
END:DAYLIGHT
END:VTIMEZONE
BEGIN:VEVENT
UID:586e4bba-126f-41a5-9c03-5bbf6324a4ff
DTSTAMP:20260423T165820Z
DESCRIPTION:
DTSTART;TZID=America/New_York:20170919T150000
DTEND;TZID=America/New_York:20170919T170000
LOCATION:TARC
SUMMARY:Life Enrichment
END:VEVENT
END:VCALENDAR
