BEGIN:VCALENDAR
VERSION:2.0
PRODID:-//www.arcnbc.org//NONSGML kigkonsult.se iCalcreator 2.30.10//
CALSCALE:GREGORIAN
METHOD:PUBLISH
UID:8dc79ede-88fc-411b-9339-66067086ccb8
X-WR-CALDESC:
X-WR-RELCALID:d062af3c4dfa5efc7839f0eb07273842
X-WR-TIMEZONE:America/New_York
BEGIN:VTIMEZONE
TZID:America/New_York
BEGIN:STANDARD
TZNAME:EST
DTSTART:20161106T020000
TZOFFSETFROM:-0400
TZOFFSETTO:-0500
RDATE:20171105T020000
RDATE:20181104T020000
END:STANDARD
BEGIN:DAYLIGHT
TZNAME:EDT
DTSTART:20170312T020000
TZOFFSETFROM:-0500
TZOFFSETTO:-0400
RDATE:20180311T020000
RDATE:20190310T020000
END:DAYLIGHT
END:VTIMEZONE
BEGIN:VEVENT
UID:1d48b0cd-d86c-40bf-99aa-f184a520a2ef
DTSTAMP:20260423T165806Z
DESCRIPTION:
DTSTART;TZID=America/New_York:20170919T173000
DTEND;TZID=America/New_York:20170919T183000
LOCATION:TARC
SUMMARY:Zumba
END:VEVENT
END:VCALENDAR
