BEGIN:VCALENDAR
VERSION:2.0
PRODID:-//www.arcnbc.org//NONSGML kigkonsult.se iCalcreator 2.30.10//
CALSCALE:GREGORIAN
METHOD:PUBLISH
UID:7dbdf364-f42b-414e-89ac-10cdd1506b47
X-WR-CALDESC:
X-WR-RELCALID:53936d3daf7f771fd8f3ba86666d43e6
X-WR-TIMEZONE:America/New_York
BEGIN:VTIMEZONE
TZID:America/New_York
BEGIN:STANDARD
TZNAME:EST
DTSTART:20161106T020000
TZOFFSETFROM:-0400
TZOFFSETTO:-0500
RDATE:20171105T020000
RDATE:20181104T020000
END:STANDARD
BEGIN:DAYLIGHT
TZNAME:EDT
DTSTART:20170312T020000
TZOFFSETFROM:-0500
TZOFFSETTO:-0400
RDATE:20180311T020000
RDATE:20190310T020000
END:DAYLIGHT
END:VTIMEZONE
BEGIN:VEVENT
UID:81d3fb22-80ab-4899-a67a-fed0102b8107
DTSTAMP:20260423T183949Z
DESCRIPTION:
DTSTART;TZID=America/New_York:20170920T163000
DTEND;TZID=America/New_York:20170920T173000
LOCATION:Arc Attleboro/ E. Taunton Kenpo Karate
SUMMARY:Karate
END:VEVENT
END:VCALENDAR
