BEGIN:VCALENDAR
VERSION:2.0
PRODID:-//www.arcnbc.org//NONSGML kigkonsult.se iCalcreator 2.30.10//
CALSCALE:GREGORIAN
METHOD:PUBLISH
UID:f19bcd56-5ebb-4cc7-8830-2d010e55cfde
X-WR-CALDESC:
X-WR-RELCALID:c0bfa810c4bdbb0012e5ed10101064c1
X-WR-TIMEZONE:America/New_York
BEGIN:VTIMEZONE
TZID:America/New_York
BEGIN:STANDARD
TZNAME:EST
DTSTART:20161106T020000
TZOFFSETFROM:-0400
TZOFFSETTO:-0500
RDATE:20171105T020000
RDATE:20181104T020000
END:STANDARD
BEGIN:DAYLIGHT
TZNAME:EDT
DTSTART:20170312T020000
TZOFFSETFROM:-0500
TZOFFSETTO:-0400
RDATE:20180311T020000
RDATE:20190310T020000
END:DAYLIGHT
END:VTIMEZONE
BEGIN:VEVENT
UID:b088fec8-1bea-46ed-8d75-c7c99da159c9
DTSTAMP:20260423T165346Z
DESCRIPTION:
DTSTART;TZID=America/New_York:20170922T190000
DTEND;TZID=America/New_York:20170922T210000
LOCATION:Attleboro YMCA- Pleasant St. Branch
SUMMARY:GO Night
END:VEVENT
END:VCALENDAR
