BEGIN:VCALENDAR
VERSION:2.0
PRODID:-//www.arcnbc.org//NONSGML kigkonsult.se iCalcreator 2.30.10//
CALSCALE:GREGORIAN
METHOD:PUBLISH
UID:33014925-b78b-4e35-8b60-ec532c50e2f1
X-WR-CALDESC:10 John Mowry Road\, Smithfield\, RI
X-WR-RELCALID:65caab74c27fba3d46fbab0a2471082f
X-WR-TIMEZONE:America/New_York
BEGIN:VTIMEZONE
TZID:America/New_York
BEGIN:STANDARD
TZNAME:EST
DTSTART:20161106T020000
TZOFFSETFROM:-0400
TZOFFSETTO:-0500
RDATE:20171105T020000
RDATE:20181104T020000
END:STANDARD
BEGIN:DAYLIGHT
TZNAME:EDT
DTSTART:20170312T020000
TZOFFSETFROM:-0500
TZOFFSETTO:-0400
RDATE:20180311T020000
RDATE:20190310T020000
END:DAYLIGHT
END:VTIMEZONE
BEGIN:VEVENT
UID:2c2a15f7-fcc4-4b91-a6fa-765b3609da5d
DTSTAMP:20260423T165639Z
DESCRIPTION:10 John Mowry Road\, Smithfield\, RI
DTSTART;TZID=America/New_York:20170923T120000
DTEND;TZID=America/New_York:20170923T150000
LOCATION:Seven Cedars Farm
SUMMARY:Family Fun Day
END:VEVENT
END:VCALENDAR
