BEGIN:VCALENDAR
VERSION:2.0
PRODID:-//www.arcnbc.org//NONSGML kigkonsult.se iCalcreator 2.30.10//
CALSCALE:GREGORIAN
METHOD:PUBLISH
UID:eed3a760-ed9a-466c-b9f9-8b85396b9c52
X-WR-CALDESC:
X-WR-RELCALID:f016a3ab758fe526cb2ea22a1c875908
X-WR-TIMEZONE:America/New_York
BEGIN:VTIMEZONE
TZID:America/New_York
BEGIN:STANDARD
TZNAME:EST
DTSTART:20161106T020000
TZOFFSETFROM:-0400
TZOFFSETTO:-0500
RDATE:20171105T020000
RDATE:20181104T020000
END:STANDARD
BEGIN:DAYLIGHT
TZNAME:EDT
DTSTART:20170312T020000
TZOFFSETFROM:-0500
TZOFFSETTO:-0400
RDATE:20180311T020000
RDATE:20190310T020000
END:DAYLIGHT
END:VTIMEZONE
BEGIN:VEVENT
UID:6d5ff570-5afe-4d89-be04-1c82fbac414f
DTSTAMP:20260423T165551Z
DESCRIPTION:
DTSTART;TZID=America/New_York:20170925T170000
DTEND;TZID=America/New_York:20170925T180000
LOCATION:Arc Attleboro
SUMMARY:Self Advocacy Group
END:VEVENT
END:VCALENDAR
