BEGIN:VCALENDAR
VERSION:2.0
PRODID:-//www.arcnbc.org//NONSGML kigkonsult.se iCalcreator 2.30.10//
CALSCALE:GREGORIAN
METHOD:PUBLISH
UID:5c0bf73a-b31e-4432-aeb7-a94efec77d94
X-WR-CALDESC:
X-WR-RELCALID:08fb39a5f16162d2c9b3406fc7c690cc
X-WR-TIMEZONE:America/New_York
BEGIN:VTIMEZONE
TZID:America/New_York
BEGIN:STANDARD
TZNAME:EST
DTSTART:20161106T020000
TZOFFSETFROM:-0400
TZOFFSETTO:-0500
RDATE:20171105T020000
RDATE:20181104T020000
END:STANDARD
BEGIN:DAYLIGHT
TZNAME:EDT
DTSTART:20170312T020000
TZOFFSETFROM:-0500
TZOFFSETTO:-0400
RDATE:20180311T020000
RDATE:20190310T020000
END:DAYLIGHT
END:VTIMEZONE
BEGIN:VEVENT
UID:3c95f536-4342-488d-b2dd-f6999b026d90
DTSTAMP:20260423T165952Z
DESCRIPTION:
DTSTART;TZID=America/New_York:20170926T150000
DTEND;TZID=America/New_York:20170926T170000
LOCATION:TARC
SUMMARY:Life Enrichment
END:VEVENT
END:VCALENDAR
