BEGIN:VCALENDAR
VERSION:2.0
PRODID:-//www.arcnbc.org//NONSGML kigkonsult.se iCalcreator 2.30.10//
CALSCALE:GREGORIAN
METHOD:PUBLISH
UID:089cf939-0489-4969-bffa-0048cbe78b35
X-WR-CALDESC:
X-WR-RELCALID:cb781b3bcf585af782b4fb520e3d7c33
X-WR-TIMEZONE:America/New_York
BEGIN:VTIMEZONE
TZID:America/New_York
BEGIN:STANDARD
TZNAME:EST
DTSTART:20161106T020000
TZOFFSETFROM:-0400
TZOFFSETTO:-0500
RDATE:20171105T020000
RDATE:20181104T020000
END:STANDARD
BEGIN:DAYLIGHT
TZNAME:EDT
DTSTART:20170312T020000
TZOFFSETFROM:-0500
TZOFFSETTO:-0400
RDATE:20180311T020000
RDATE:20190310T020000
END:DAYLIGHT
END:VTIMEZONE
BEGIN:VEVENT
UID:c3060eca-0f70-4813-a651-adaaf64f920f
DTSTAMP:20260423T165521Z
DESCRIPTION:
DTSTART;TZID=America/New_York:20170926T173000
DTEND;TZID=America/New_York:20170926T210000
LOCATION:Cinema Pub- North Attleboro
SUMMARY:Dinner & Movie
END:VEVENT
END:VCALENDAR
