BEGIN:VCALENDAR
VERSION:2.0
PRODID:-//www.arcnbc.org//NONSGML kigkonsult.se iCalcreator 2.30.10//
CALSCALE:GREGORIAN
METHOD:PUBLISH
UID:a615fe92-1eb1-40ed-9af6-30508e45b80b
X-WR-CALDESC:
X-WR-RELCALID:86ecd20aaaca4605d8c0297f462ee685
X-WR-TIMEZONE:America/New_York
BEGIN:VTIMEZONE
TZID:America/New_York
BEGIN:STANDARD
TZNAME:EST
DTSTART:20161106T020000
TZOFFSETFROM:-0400
TZOFFSETTO:-0500
RDATE:20171105T020000
RDATE:20181104T020000
END:STANDARD
BEGIN:DAYLIGHT
TZNAME:EDT
DTSTART:20170312T020000
TZOFFSETFROM:-0500
TZOFFSETTO:-0400
RDATE:20180311T020000
RDATE:20190310T020000
END:DAYLIGHT
END:VTIMEZONE
BEGIN:VEVENT
UID:16cea3d3-cfcc-4044-919c-b1f15866972e
DTSTAMP:20260423T165808Z
DESCRIPTION:
DTSTART;TZID=America/New_York:20170927T143000
DTEND;TZID=America/New_York:20170927T153000
LOCATION:TARC
SUMMARY:Bingo
END:VEVENT
END:VCALENDAR
