BEGIN:VCALENDAR
VERSION:2.0
PRODID:-//www.arcnbc.org//NONSGML kigkonsult.se iCalcreator 2.30.10//
CALSCALE:GREGORIAN
METHOD:PUBLISH
UID:0f32b3ce-742f-492e-98bb-7cdf4f743540
X-WR-CALDESC:
X-WR-RELCALID:77a7f9f160a71b515896fd80af24c720
X-WR-TIMEZONE:America/New_York
BEGIN:VTIMEZONE
TZID:America/New_York
BEGIN:STANDARD
TZNAME:EST
DTSTART:20161106T020000
TZOFFSETFROM:-0400
TZOFFSETTO:-0500
RDATE:20171105T020000
RDATE:20181104T020000
END:STANDARD
BEGIN:DAYLIGHT
TZNAME:EDT
DTSTART:20170312T020000
TZOFFSETFROM:-0500
TZOFFSETTO:-0400
RDATE:20180311T020000
RDATE:20190310T020000
END:DAYLIGHT
END:VTIMEZONE
BEGIN:VEVENT
UID:c06f7bf4-8b79-4dd2-9b3c-7c736b034adb
DTSTAMP:20260423T165639Z
DESCRIPTION:
DTSTART;TZID=America/New_York:20170927T163000
DTEND;TZID=America/New_York:20170927T173000
LOCATION:Arc Attleboro/ E. Taunton Kenpo Karate
SUMMARY:Karate
END:VEVENT
END:VCALENDAR
