BEGIN:VCALENDAR
VERSION:2.0
PRODID:-//www.arcnbc.org//NONSGML kigkonsult.se iCalcreator 2.30.10//
CALSCALE:GREGORIAN
METHOD:PUBLISH
UID:e6cbfb2b-c3a5-4a0b-9d6d-4defae87c72b
X-WR-CALDESC:
X-WR-RELCALID:bd5981af78f82128afce621f0cf20fa3
X-WR-TIMEZONE:America/New_York
BEGIN:VTIMEZONE
TZID:America/New_York
BEGIN:STANDARD
TZNAME:EST
DTSTART:20161106T020000
TZOFFSETFROM:-0400
TZOFFSETTO:-0500
RDATE:20171105T020000
RDATE:20181104T020000
END:STANDARD
BEGIN:DAYLIGHT
TZNAME:EDT
DTSTART:20170312T020000
TZOFFSETFROM:-0500
TZOFFSETTO:-0400
RDATE:20180311T020000
RDATE:20190310T020000
END:DAYLIGHT
END:VTIMEZONE
BEGIN:VEVENT
UID:3e7b9bf4-fd16-4166-9c61-e6d24670a376
DTSTAMP:20260423T165510Z
DESCRIPTION:
DTSTART;TZID=America/New_York:20170928T190000
DTEND;TZID=America/New_York:20170928T210000
LOCATION:PACC- Taunton (175 School St.)
SUMMARY:Fran's Dance
END:VEVENT
END:VCALENDAR
