BEGIN:VCALENDAR
VERSION:2.0
PRODID:-//www.arcnbc.org//NONSGML kigkonsult.se iCalcreator 2.30.10//
CALSCALE:GREGORIAN
METHOD:PUBLISH
UID:9cdce821-dffe-4df0-8cc5-491f9c2c071b
X-WR-CALDESC:
X-WR-RELCALID:064649ae63951dbc207ab9b7cee1920e
X-WR-TIMEZONE:America/New_York
BEGIN:VTIMEZONE
TZID:America/New_York
BEGIN:STANDARD
TZNAME:EST
DTSTART:20161106T020000
TZOFFSETFROM:-0400
TZOFFSETTO:-0500
RDATE:20171105T020000
RDATE:20181104T020000
END:STANDARD
BEGIN:DAYLIGHT
TZNAME:EDT
DTSTART:20170312T020000
TZOFFSETFROM:-0500
TZOFFSETTO:-0400
RDATE:20180311T020000
RDATE:20190310T020000
END:DAYLIGHT
END:VTIMEZONE
BEGIN:VEVENT
UID:99706e4e-c416-49b3-bae0-cebf541c9a30
DTSTAMP:20260423T165248Z
DESCRIPTION:
DTSTART;TZID=America/New_York:20170929T090000
DTEND;TZID=America/New_York:20170929T153000
LOCATION:proAbility office
SUMMARY:NCI
END:VEVENT
END:VCALENDAR
