BEGIN:VCALENDAR
VERSION:2.0
PRODID:-//www.arcnbc.org//NONSGML kigkonsult.se iCalcreator 2.30.10//
CALSCALE:GREGORIAN
METHOD:PUBLISH
UID:15874c06-3878-46bc-a049-959b342c5d0b
X-WR-CALDESC:
X-WR-RELCALID:10a58fbee9bba5e45c70961a053dbacf
X-WR-TIMEZONE:America/New_York
BEGIN:VTIMEZONE
TZID:America/New_York
BEGIN:STANDARD
TZNAME:EST
DTSTART:20161106T020000
TZOFFSETFROM:-0400
TZOFFSETTO:-0500
RDATE:20171105T020000
RDATE:20181104T020000
END:STANDARD
BEGIN:DAYLIGHT
TZNAME:EDT
DTSTART:20170312T020000
TZOFFSETFROM:-0500
TZOFFSETTO:-0400
RDATE:20180311T020000
RDATE:20190310T020000
END:DAYLIGHT
END:VTIMEZONE
BEGIN:VEVENT
UID:dcd0b02e-68f0-474f-af45-32e972e38fec
DTSTAMP:20260423T165627Z
DESCRIPTION:
DTSTART;TZID=America/New_York:20170930T113000
DTEND;TZID=America/New_York:20170930T200000
LOCATION:Arc Attleboro
SUMMARY:Whale Watch
END:VEVENT
END:VCALENDAR
