BEGIN:VCALENDAR
VERSION:2.0
PRODID:-//www.arcnbc.org//NONSGML kigkonsult.se iCalcreator 2.30.10//
CALSCALE:GREGORIAN
METHOD:PUBLISH
UID:c6d3d1e2-3ebc-4c35-b58a-9e10fcdcbdf6
X-WR-CALDESC:New Employee Orientation
X-WR-RELCALID:38440d2f3fc2ab3185205bf8b71dc9d0
X-WR-TIMEZONE:America/New_York
BEGIN:VTIMEZONE
TZID:America/New_York
BEGIN:STANDARD
TZNAME:EST
DTSTART:20161106T020000
TZOFFSETFROM:-0400
TZOFFSETTO:-0500
RDATE:20171105T020000
RDATE:20181104T020000
END:STANDARD
BEGIN:DAYLIGHT
TZNAME:EDT
DTSTART:20170312T020000
TZOFFSETFROM:-0500
TZOFFSETTO:-0400
RDATE:20180311T020000
RDATE:20190310T020000
END:DAYLIGHT
END:VTIMEZONE
BEGIN:VEVENT
UID:3b9c4c1e-9b09-4763-9bbc-3de3d1678eb9
DTSTAMP:20260423T165404Z
DESCRIPTION:New Employee Orientation
DTSTART;TZID=America/New_York:20171011T100000
DTEND;TZID=America/New_York:20171011T160000
LOCATION:141 Park Street
SUMMARY:Orientation
END:VEVENT
END:VCALENDAR
