BEGIN:VCALENDAR
VERSION:2.0
PRODID:-//www.arcnbc.org//NONSGML kigkonsult.se iCalcreator 2.30.10//
CALSCALE:GREGORIAN
METHOD:PUBLISH
UID:2b2bf689-d930-443c-bcf2-9459b8eb8752
X-WR-CALDESC:
X-WR-RELCALID:b21d81db7f7ed0d71ae756527258f5b9
X-WR-TIMEZONE:America/New_York
BEGIN:VTIMEZONE
TZID:America/New_York
BEGIN:STANDARD
TZNAME:EST
DTSTART:20161106T020000
TZOFFSETFROM:-0400
TZOFFSETTO:-0500
RDATE:20171105T020000
RDATE:20181104T020000
END:STANDARD
BEGIN:DAYLIGHT
TZNAME:EDT
DTSTART:20170312T020000
TZOFFSETFROM:-0500
TZOFFSETTO:-0400
RDATE:20180311T020000
RDATE:20190310T020000
END:DAYLIGHT
END:VTIMEZONE
BEGIN:VEVENT
UID:1d5b55d1-c4fb-48be-bed1-20bf59ad5824
DTSTAMP:20260423T165356Z
DESCRIPTION:
DTSTART;TZID=America/New_York:20171012T090000
DTEND;TZID=America/New_York:20171012T150000
LOCATION:141 Park Street
SUMMARY:First Aid/CPR
END:VEVENT
END:VCALENDAR
