BEGIN:VCALENDAR
VERSION:2.0
PRODID:-//www.arcnbc.org//NONSGML kigkonsult.se iCalcreator 2.30.10//
CALSCALE:GREGORIAN
METHOD:PUBLISH
UID:64078b2a-1576-4a9a-8e39-f8c686745ea1
X-WR-CALDESC:
X-WR-RELCALID:d0261092e11db831a06870d043781da6
X-WR-TIMEZONE:America/New_York
BEGIN:VTIMEZONE
TZID:America/New_York
BEGIN:STANDARD
TZNAME:EST
DTSTART:20161106T020000
TZOFFSETFROM:-0400
TZOFFSETTO:-0500
RDATE:20171105T020000
RDATE:20181104T020000
END:STANDARD
BEGIN:DAYLIGHT
TZNAME:EDT
DTSTART:20170312T020000
TZOFFSETFROM:-0500
TZOFFSETTO:-0400
RDATE:20180311T020000
RDATE:20190310T020000
END:DAYLIGHT
END:VTIMEZONE
BEGIN:VEVENT
UID:72f718b8-3d1c-4a92-86a8-df618db3855f
DTSTAMP:20260423T165455Z
DESCRIPTION:
DTSTART;TZID=America/New_York:20171016T090000
DTEND;TZID=America/New_York:20171016T150000
LOCATION:New Bedford Office
SUMMARY:First Aid/CPR
END:VEVENT
END:VCALENDAR
