BEGIN:VCALENDAR
VERSION:2.0
PRODID:-//www.arcnbc.org//NONSGML kigkonsult.se iCalcreator 2.30.10//
CALSCALE:GREGORIAN
METHOD:PUBLISH
UID:314bb335-bb3c-4654-948a-a12322e261aa
X-WR-CALDESC:
X-WR-RELCALID:437e7c6f77de3ecadd5ffc856515db2d
X-WR-TIMEZONE:America/New_York
BEGIN:VTIMEZONE
TZID:America/New_York
BEGIN:STANDARD
TZNAME:EST
DTSTART:20161106T020000
TZOFFSETFROM:-0400
TZOFFSETTO:-0500
RDATE:20171105T020000
RDATE:20181104T020000
END:STANDARD
BEGIN:DAYLIGHT
TZNAME:EDT
DTSTART:20170312T020000
TZOFFSETFROM:-0500
TZOFFSETTO:-0400
RDATE:20180311T020000
RDATE:20190310T020000
END:DAYLIGHT
END:VTIMEZONE
BEGIN:VEVENT
UID:da8d43c3-5b55-4b2d-8e58-7c146141d233
DTSTAMP:20260423T165745Z
DESCRIPTION:
DTSTART;TZID=America/New_York:20171018T160000
DTEND;TZID=America/New_York:20171018T190000
LOCATION:Arc Attleboro/ East Taunton Kenpo Karate
SUMMARY:Karate
END:VEVENT
END:VCALENDAR
