BEGIN:VCALENDAR
VERSION:2.0
PRODID:-//www.arcnbc.org//NONSGML kigkonsult.se iCalcreator 2.30.10//
CALSCALE:GREGORIAN
METHOD:PUBLISH
UID:216df944-16cf-4b4a-8f3f-2985ecb0cec5
X-WR-CALDESC:An Informational Discussion with Parents and Caregivers Regard
 ing Sexuality with Mary Ellen Goodwin and Rebecca Barry\, LSW.
X-WR-RELCALID:266cb8cdfdd93619fde326d8f003dfdb
X-WR-TIMEZONE:America/New_York
BEGIN:VTIMEZONE
TZID:America/New_York
BEGIN:STANDARD
TZNAME:EST
DTSTART:20161106T020000
TZOFFSETFROM:-0400
TZOFFSETTO:-0500
RDATE:20171105T020000
RDATE:20181104T020000
END:STANDARD
BEGIN:DAYLIGHT
TZNAME:EDT
DTSTART:20170312T020000
TZOFFSETFROM:-0500
TZOFFSETTO:-0400
RDATE:20180311T020000
RDATE:20190310T020000
END:DAYLIGHT
END:VTIMEZONE
BEGIN:VEVENT
UID:7f77fb99-14e8-4f1e-8237-0278aac7fe6b
DTSTAMP:20260423T165550Z
DESCRIPTION:An Informational Discussion with Parents and Caregivers Regardi
 ng Sexuality with Mary Ellen Goodwin and Rebecca Barry\, LSW.
DTSTART;TZID=America/New_York:20171018T180000
DTEND;TZID=America/New_York:20171018T200000
LOCATION:Attleboro Enterprises\, Inc.
SUMMARY:2017 Transition Expo Series
END:VEVENT
END:VCALENDAR
