BEGIN:VCALENDAR
VERSION:2.0
PRODID:-//www.arcnbc.org//NONSGML kigkonsult.se iCalcreator 2.30.10//
CALSCALE:GREGORIAN
METHOD:PUBLISH
UID:e48c40a5-6dfa-4cc5-9202-1a491ad123a1
X-WR-CALDESC:Join us for the 15th Annual Pancake Breakfast to support the 4
 93 individuals served through the Taunton Area Resource Center.  Tickets a
 re $6 and their will be loads of prizes for attendees to try and win.  Tic
 ket can be purchased through the Taunton Area Resource Center at (508) 884
 -2971\n
X-WR-RELCALID:4963fc26bc59b5150ef230890ff1eb79
X-WR-TIMEZONE:America/New_York
BEGIN:VTIMEZONE
TZID:America/New_York
BEGIN:STANDARD
TZNAME:EST
DTSTART:20161106T020000
TZOFFSETFROM:-0400
TZOFFSETTO:-0500
RDATE:20171105T020000
RDATE:20181104T020000
END:STANDARD
BEGIN:DAYLIGHT
TZNAME:EDT
DTSTART:20170312T020000
TZOFFSETFROM:-0500
TZOFFSETTO:-0400
RDATE:20180311T020000
RDATE:20190310T020000
END:DAYLIGHT
END:VTIMEZONE
BEGIN:VEVENT
UID:a4ffb88c-acdd-4190-9012-474f82b3a9e1
DTSTAMP:20260423T165554Z
DESCRIPTION:Join us for the 15th Annual Pancake Breakfast to support the 49
 3 individuals served through the Taunton Area Resource Center.  Tickets ar
 e $6 and their will be loads of prizes for attendees to try and win.  Tick
 et can be purchased through the Taunton Area Resource Center at (508) 884-
 2971\n
DTSTART;TZID=America/New_York:20171021T083000
DTEND;TZID=America/New_York:20171021T110000
LOCATION:Portuguese-American Civic Club
SUMMARY:15th Annual Pancake
END:VEVENT
END:VCALENDAR
