BEGIN:VCALENDAR
VERSION:2.0
PRODID:-//www.arcnbc.org//NONSGML kigkonsult.se iCalcreator 2.30.10//
CALSCALE:GREGORIAN
METHOD:PUBLISH
UID:c3a2b11a-5221-4f5e-9dae-867897905ea1
X-WR-CALDESC:
X-WR-RELCALID:b2d860d952414c52f3788175d858e356
X-WR-TIMEZONE:America/New_York
BEGIN:VTIMEZONE
TZID:America/New_York
BEGIN:STANDARD
TZNAME:EST
DTSTART:20161106T020000
TZOFFSETFROM:-0400
TZOFFSETTO:-0500
RDATE:20171105T020000
RDATE:20181104T020000
END:STANDARD
BEGIN:DAYLIGHT
TZNAME:EDT
DTSTART:20170312T020000
TZOFFSETFROM:-0500
TZOFFSETTO:-0400
RDATE:20180311T020000
RDATE:20190310T020000
END:DAYLIGHT
END:VTIMEZONE
BEGIN:VEVENT
UID:6b4e0785-f4cf-4ccb-a9be-6f8e315be7ef
DTSTAMP:20260423T165554Z
DESCRIPTION:
DTSTART;TZID=America/New_York:20171023T173000
DTEND;TZID=America/New_York:20171023T210000
LOCATION:Cinema Pub- N. Attleboro
SUMMARY:Dinner & Movie
END:VEVENT
END:VCALENDAR
