BEGIN:VCALENDAR
VERSION:2.0
PRODID:-//www.arcnbc.org//NONSGML kigkonsult.se iCalcreator 2.30.10//
CALSCALE:GREGORIAN
METHOD:PUBLISH
UID:6ec7520c-33bb-41d0-8670-a0cd5a89c0e0
X-WR-CALDESC:New Employee Orientation
X-WR-RELCALID:09a5b04aebbf644b928e35ea9c47f4df
X-WR-TIMEZONE:America/New_York
BEGIN:VTIMEZONE
TZID:America/New_York
BEGIN:STANDARD
TZNAME:EST
DTSTART:20161106T020000
TZOFFSETFROM:-0400
TZOFFSETTO:-0500
RDATE:20171105T020000
RDATE:20181104T020000
END:STANDARD
BEGIN:DAYLIGHT
TZNAME:EDT
DTSTART:20170312T020000
TZOFFSETFROM:-0500
TZOFFSETTO:-0400
RDATE:20180311T020000
RDATE:20190310T020000
END:DAYLIGHT
END:VTIMEZONE
BEGIN:VEVENT
UID:9fbb4ec4-9ddc-4f7f-ae35-ea5e8794e2cc
DTSTAMP:20260423T165403Z
DESCRIPTION:New Employee Orientation
DTSTART;TZID=America/New_York:20171023T100000
DTEND;TZID=America/New_York:20171023T160000
LOCATION:141 Park Street
SUMMARY:Orientation
END:VEVENT
END:VCALENDAR
