BEGIN:VCALENDAR
VERSION:2.0
PRODID:-//www.arcnbc.org//NONSGML kigkonsult.se iCalcreator 2.30.10//
CALSCALE:GREGORIAN
METHOD:PUBLISH
UID:c7d0d1ac-61fa-4ab3-8434-f7f33328056d
X-WR-CALDESC:
X-WR-RELCALID:7af2743ff4f9bca4a95fd136cb5f130f
X-WR-TIMEZONE:America/New_York
BEGIN:VTIMEZONE
TZID:America/New_York
BEGIN:STANDARD
TZNAME:EST
DTSTART:20161106T020000
TZOFFSETFROM:-0400
TZOFFSETTO:-0500
RDATE:20171105T020000
RDATE:20181104T020000
END:STANDARD
BEGIN:DAYLIGHT
TZNAME:EDT
DTSTART:20170312T020000
TZOFFSETFROM:-0500
TZOFFSETTO:-0400
RDATE:20180311T020000
RDATE:20190310T020000
END:DAYLIGHT
END:VTIMEZONE
BEGIN:VEVENT
UID:ddfeef44-3ab7-40a0-b3ef-29c4f7dc1ae8
DTSTAMP:20260423T165248Z
DESCRIPTION:
DTSTART;TZID=America/New_York:20171024T180000
DTEND;TZID=America/New_York:20171024T200000
LOCATION:E. Providence Lanes
SUMMARY:Bowling
END:VEVENT
END:VCALENDAR
