BEGIN:VCALENDAR
VERSION:2.0
PRODID:-//www.arcnbc.org//NONSGML kigkonsult.se iCalcreator 2.30.10//
CALSCALE:GREGORIAN
METHOD:PUBLISH
UID:f3578be7-6aed-4443-8388-b8d5360e44cf
X-WR-CALDESC:Non- Violent Crisis Intervention (NCI)
X-WR-RELCALID:4e525ef95f61996e71f3646c631c6912
X-WR-TIMEZONE:America/New_York
BEGIN:VTIMEZONE
TZID:America/New_York
BEGIN:STANDARD
TZNAME:EST
DTSTART:20161106T020000
TZOFFSETFROM:-0400
TZOFFSETTO:-0500
RDATE:20171105T020000
RDATE:20181104T020000
END:STANDARD
BEGIN:DAYLIGHT
TZNAME:EDT
DTSTART:20170312T020000
TZOFFSETFROM:-0500
TZOFFSETTO:-0400
RDATE:20180311T020000
RDATE:20190310T020000
END:DAYLIGHT
END:VTIMEZONE
BEGIN:VEVENT
UID:c23a0bb9-b368-4e60-b45a-2bd243397816
DTSTAMP:20260423T165347Z
DESCRIPTION:Non- Violent Crisis Intervention (NCI)
DTSTART;TZID=America/New_York:20171024T090000
DTEND;TZID=America/New_York:20171024T153000
LOCATION:141 Park Street
SUMMARY:NCI
END:VEVENT
END:VCALENDAR
