BEGIN:VCALENDAR
VERSION:2.0
PRODID:-//www.arcnbc.org//NONSGML kigkonsult.se iCalcreator 2.30.10//
CALSCALE:GREGORIAN
METHOD:PUBLISH
UID:4f23427d-aed0-4bc1-989d-ba19a9edddba
X-WR-CALDESC:
X-WR-RELCALID:67f0fb4116cb6486830cda89596d3c2d
X-WR-TIMEZONE:America/New_York
BEGIN:VTIMEZONE
TZID:America/New_York
BEGIN:STANDARD
TZNAME:EST
DTSTART:20161106T020000
TZOFFSETFROM:-0400
TZOFFSETTO:-0500
RDATE:20171105T020000
RDATE:20181104T020000
END:STANDARD
BEGIN:DAYLIGHT
TZNAME:EDT
DTSTART:20170312T020000
TZOFFSETFROM:-0500
TZOFFSETTO:-0400
RDATE:20180311T020000
RDATE:20190310T020000
END:DAYLIGHT
END:VTIMEZONE
BEGIN:VEVENT
UID:1eaa3908-b565-4da2-836d-ff1c016028d5
DTSTAMP:20260423T165357Z
DESCRIPTION:
DTSTART;TZID=America/New_York:20171025T150000
DTEND;TZID=America/New_York:20171025T170000
LOCATION:TARC
SUMMARY:Bingo
END:VEVENT
END:VCALENDAR
