BEGIN:VCALENDAR
VERSION:2.0
PRODID:-//www.arcnbc.org//NONSGML kigkonsult.se iCalcreator 2.30.10//
CALSCALE:GREGORIAN
METHOD:PUBLISH
UID:6733d92b-6ac6-41c7-b45a-cd3600ef87ed
X-WR-CALDESC:Presenter:  Patricia Menzel\n\nEmbracing the strengths of auti
 sm while sharing positive management strategies.
X-WR-RELCALID:25edbe5024bc2a87ee9bbb27bff7299e
X-WR-TIMEZONE:America/New_York
BEGIN:VTIMEZONE
TZID:America/New_York
BEGIN:STANDARD
TZNAME:EST
DTSTART:20161106T020000
TZOFFSETFROM:-0400
TZOFFSETTO:-0500
RDATE:20171105T020000
RDATE:20181104T020000
END:STANDARD
BEGIN:DAYLIGHT
TZNAME:EDT
DTSTART:20170312T020000
TZOFFSETFROM:-0500
TZOFFSETTO:-0400
RDATE:20180311T020000
RDATE:20190310T020000
END:DAYLIGHT
END:VTIMEZONE
BEGIN:VEVENT
UID:7c7795ea-1bfc-416c-81ed-6b0857418a12
DTSTAMP:20260423T165520Z
DESCRIPTION:Presenter:  Patricia Menzel\n\nEmbracing the strengths of autis
 m while sharing positive management strategies.
DTSTART;TZID=America/New_York:20171025T183000
DTEND;TZID=America/New_York:20171025T200000
LOCATION:141 Park Street\, Attleboro\, MA
SUMMARY:Happy Square Pegs
END:VEVENT
END:VCALENDAR
