BEGIN:VCALENDAR
VERSION:2.0
PRODID:-//www.arcnbc.org//NONSGML kigkonsult.se iCalcreator 2.30.10//
CALSCALE:GREGORIAN
METHOD:PUBLISH
UID:97d8341f-39a6-4823-b644-4cea9f3fef99
X-WR-CALDESC:
X-WR-RELCALID:92712978c0d5008704bd021222bd68d1
X-WR-TIMEZONE:America/New_York
BEGIN:VTIMEZONE
TZID:America/New_York
BEGIN:STANDARD
TZNAME:EST
DTSTART:20161106T020000
TZOFFSETFROM:-0400
TZOFFSETTO:-0500
RDATE:20171105T020000
RDATE:20181104T020000
END:STANDARD
BEGIN:DAYLIGHT
TZNAME:EDT
DTSTART:20170312T020000
TZOFFSETFROM:-0500
TZOFFSETTO:-0400
RDATE:20180311T020000
RDATE:20190310T020000
END:DAYLIGHT
END:VTIMEZONE
BEGIN:VEVENT
UID:18fc1e2a-6c81-47bd-a7b3-cdab3270a3f4
DTSTAMP:20260423T165513Z
DESCRIPTION:
DTSTART;TZID=America/New_York:20171026T190000
DTEND;TZID=America/New_York:20171026T210000
LOCATION:PACC- Taunton
SUMMARY:Fran's Dance
END:VEVENT
END:VCALENDAR
