BEGIN:VCALENDAR
VERSION:2.0
PRODID:-//www.arcnbc.org//NONSGML kigkonsult.se iCalcreator 2.30.10//
CALSCALE:GREGORIAN
METHOD:PUBLISH
UID:a13e8218-34ef-4eba-b17e-0880290eaa49
X-WR-CALDESC:
X-WR-RELCALID:63679f990ec860965d7a2b3c1ad24221
X-WR-TIMEZONE:America/New_York
BEGIN:VTIMEZONE
TZID:America/New_York
BEGIN:STANDARD
TZNAME:EST
DTSTART:20161106T020000
TZOFFSETFROM:-0400
TZOFFSETTO:-0500
RDATE:20171105T020000
RDATE:20181104T020000
END:STANDARD
BEGIN:DAYLIGHT
TZNAME:EDT
DTSTART:20170312T020000
TZOFFSETFROM:-0500
TZOFFSETTO:-0400
RDATE:20180311T020000
RDATE:20190310T020000
END:DAYLIGHT
END:VTIMEZONE
BEGIN:VEVENT
UID:aa9c06b5-5201-4c66-a7ad-b32a53806c52
DTSTAMP:20260423T165816Z
DESCRIPTION:
DTSTART;TZID=America/New_York:20171028T100000
DTEND;TZID=America/New_York:20171028T160000
LOCATION:Arc Attleboro/ TARC
SUMMARY:Horse Drawn Hayride
END:VEVENT
END:VCALENDAR
