BEGIN:VCALENDAR
VERSION:2.0
PRODID:-//www.arcnbc.org//NONSGML kigkonsult.se iCalcreator 2.30.10//
CALSCALE:GREGORIAN
METHOD:PUBLISH
UID:585af89d-aa46-4544-bd8e-376d7faa5663
X-WR-CALDESC:
X-WR-RELCALID:1e2c5203346589680c7e2c3c17fc81b3
X-WR-TIMEZONE:America/New_York
BEGIN:VTIMEZONE
TZID:America/New_York
BEGIN:STANDARD
TZNAME:EST
DTSTART:20161106T020000
TZOFFSETFROM:-0400
TZOFFSETTO:-0500
RDATE:20171105T020000
RDATE:20181104T020000
END:STANDARD
BEGIN:DAYLIGHT
TZNAME:EDT
DTSTART:20170312T020000
TZOFFSETFROM:-0500
TZOFFSETTO:-0400
RDATE:20180311T020000
RDATE:20190310T020000
END:DAYLIGHT
END:VTIMEZONE
BEGIN:VEVENT
UID:887934a3-9ae0-4c44-89e6-1bb4e104d823
DTSTAMP:20260423T170211Z
DESCRIPTION:
DTSTART;TZID=America/New_York:20171103T190000
DTEND;TZID=America/New_York:20171103T230000
LOCATION:Arc Attleboro
SUMMARY:'You're a Good Man Charlie Brown' Show
END:VEVENT
END:VCALENDAR
