BEGIN:VCALENDAR
VERSION:2.0
PRODID:-//www.arcnbc.org//NONSGML kigkonsult.se iCalcreator 2.30.10//
CALSCALE:GREGORIAN
METHOD:PUBLISH
UID:3f862515-c932-4bdd-a538-c1c6f4fdddc9
X-WR-CALDESC:
X-WR-RELCALID:bdebf7284c208aa493bff2a7e4ac7fd0
X-WR-TIMEZONE:America/New_York
BEGIN:VTIMEZONE
TZID:America/New_York
BEGIN:STANDARD
TZNAME:EST
DTSTART:20161106T020000
TZOFFSETFROM:-0400
TZOFFSETTO:-0500
RDATE:20171105T020000
RDATE:20181104T020000
END:STANDARD
BEGIN:DAYLIGHT
TZNAME:EDT
DTSTART:20170312T020000
TZOFFSETFROM:-0500
TZOFFSETTO:-0400
RDATE:20180311T020000
RDATE:20190310T020000
END:DAYLIGHT
END:VTIMEZONE
BEGIN:VEVENT
UID:2e4369fe-0de4-48c5-bc71-0d03f24615de
DTSTAMP:20260423T165628Z
DESCRIPTION:
DTSTART;TZID=America/New_York:20171104T093000
DTEND;TZID=America/New_York:20171104T150000
LOCATION:Arc Attleboro
SUMMARY:Harvest Fair
END:VEVENT
END:VCALENDAR
