BEGIN:VCALENDAR
VERSION:2.0
PRODID:-//www.arcnbc.org//NONSGML kigkonsult.se iCalcreator 2.30.10//
CALSCALE:GREGORIAN
METHOD:PUBLISH
UID:57fff949-f3b3-44fb-b8af-b73eed9114d2
X-WR-CALDESC:
X-WR-RELCALID:d72e53b869ec9165d4f7a1b699d354ed
X-WR-TIMEZONE:America/New_York
BEGIN:VTIMEZONE
TZID:America/New_York
BEGIN:STANDARD
TZNAME:EST
DTSTART:20161106T020000
TZOFFSETFROM:-0400
TZOFFSETTO:-0500
RDATE:20171105T020000
RDATE:20181104T020000
END:STANDARD
BEGIN:DAYLIGHT
TZNAME:EDT
DTSTART:20170312T020000
TZOFFSETFROM:-0500
TZOFFSETTO:-0400
RDATE:20180311T020000
RDATE:20190310T020000
END:DAYLIGHT
END:VTIMEZONE
BEGIN:VEVENT
UID:d9f10603-4961-4d9c-aced-372466601252
DTSTAMP:20260423T170050Z
DESCRIPTION:
DTSTART;TZID=America/New_York:20171106T150000
DTEND;TZID=America/New_York:20171106T170000
LOCATION:TARC
SUMMARY:Chair Yoga
END:VEVENT
END:VCALENDAR
