BEGIN:VCALENDAR
VERSION:2.0
PRODID:-//www.arcnbc.org//NONSGML kigkonsult.se iCalcreator 2.30.10//
CALSCALE:GREGORIAN
METHOD:PUBLISH
UID:cf8e1eee-c96e-43b9-adbb-cdd00208ebce
X-WR-CALDESC:
X-WR-RELCALID:897483118cc0a434ca179dcf5b6cb5c1
X-WR-TIMEZONE:America/New_York
BEGIN:VTIMEZONE
TZID:America/New_York
BEGIN:STANDARD
TZNAME:EST
DTSTART:20171105T020000
TZOFFSETFROM:-0400
TZOFFSETTO:-0500
RDATE:20181104T020000
END:STANDARD
BEGIN:DAYLIGHT
TZNAME:EDT
DTSTART:20170312T020000
TZOFFSETFROM:-0500
TZOFFSETTO:-0400
RDATE:20180311T020000
RDATE:20190310T020000
END:DAYLIGHT
END:VTIMEZONE
BEGIN:VEVENT
UID:92b8e018-6410-4ae6-af6e-1a5f136a7afa
DTSTAMP:20260423T165807Z
DESCRIPTION:
DTSTART;TZID=America/New_York:20171107T133000
DTEND;TZID=America/New_York:20171107T143000
LOCATION:TARC
SUMMARY:Zumba
END:VEVENT
END:VCALENDAR
