BEGIN:VCALENDAR
VERSION:2.0
PRODID:-//www.arcnbc.org//NONSGML kigkonsult.se iCalcreator 2.30.10//
CALSCALE:GREGORIAN
METHOD:PUBLISH
UID:2a9e701c-cb6c-4d73-b6a6-96a672887bd4
X-WR-CALDESC:
X-WR-RELCALID:e754f70a8a50acb0eeea41291b983acb
X-WR-TIMEZONE:America/New_York
BEGIN:VTIMEZONE
TZID:America/New_York
BEGIN:STANDARD
TZNAME:EST
DTSTART:20171105T020000
TZOFFSETFROM:-0400
TZOFFSETTO:-0500
RDATE:20181104T020000
END:STANDARD
BEGIN:DAYLIGHT
TZNAME:EDT
DTSTART:20170312T020000
TZOFFSETFROM:-0500
TZOFFSETTO:-0400
RDATE:20180311T020000
RDATE:20190310T020000
END:DAYLIGHT
END:VTIMEZONE
BEGIN:VEVENT
UID:0f6f0c27-de62-436b-9fd0-b747f953a382
DTSTAMP:20260423T170112Z
DESCRIPTION:
DTSTART;TZID=America/New_York:20171107T150000
DTEND;TZID=America/New_York:20171107T170000
LOCATION:TARC
SUMMARY:Life Enrichment Skills
END:VEVENT
END:VCALENDAR
